BEGIN:VCALENDAR
VERSION:2.0
PRODID:icalendar-ruby
CALSCALE:GREGORIAN
METHOD:PUBLISH
BEGIN:VEVENT
DTSTAMP:20260424T101553Z
UID:285-2676924@praisechurchoflouisiana.com
DTSTART:20261007T233000Z
DTEND:20261008T003000Z
CLASS:PUBLIC
CREATED:20260423T201736
DESCRIPTION:Praise Kids S\nPraise Kids Service\n\nWe are so excited to laun
 ch our new cirriculum by Becky Fishcer\, "Hearing God's Voice".\nNext to o
 ur salvation\, there are few things more important for a Christian\, child
  or adult\, than to learn to hear the voice of God and be led by His Spiri
 t. Jesus said\, “My sheep listen to my voice\; I know them\, and they fo
 llow me.” It’s in childhood we should be taught how to hear the voice 
 of the Shepherd\, because it’s then we form the habits that will stay wi
 th us throughout our entire lives. If children can be taught what His voic
 e “sounds” like\, and how to recognize His leading\, they will be much
  better equipped to make right choices that affect their entire lives.This
  series takes kids from the basics all the way to seeing prophetic visions
  and dreams\, and learning how to interpret them from scripture. You will 
 see Joel 2:28 come to pass before your eyes when "your sons and daughters 
 prophecy." They will also learn how to recognize the Enemy's counterfeit s
 upernatural that attempt to mimic the Gifts of the Spirit.Your children wi
 ll never be the same!\n13 Lesson Titles for Hearing God’s Voice curricul
 um:* The Natural World vs. the Spirit World* God Has a Still\, Small Voice
 * Red Light\, Green Light* We’re Led By Peace* The Magnetic Pull of the 
 Spirit* His Word is a Lamp to Our Feet* Young Men Shall See Visions* Dream
 ing Dreams* Interpreting Dreams and Visions* The Spoken Word of God* Angel
 ic Visitations and Open Visions* The Enemy’s CounterfeitWhat’s Include
 d:* 12 dynamic lessons* 12 skits for either drama or puppetry* 12 Power Ve
 rse Discussions* Multiple Objects Lessons Per Lesson* 15 Review Questions 
 for each lesson* Scripture Contest for each Lesson\nervice
LAST-MODIFIED:20260423T201736
LOCATION:Praise Church of Ascension 222 E. Spillman St.\; Gonzales\, LA 707
 37
SUMMARY:Praise Kids Service
URL;VALUE=URI:https://praisechurchoflouisiana.com/events/praise-kids-servic
 e--285/2026-10-07
ATTACH;FILENAME=Praise-Kids.png;FMTTYPE=image/png:https://dq5pwpg1q8ru0.clo
 udfront.net/2024/05/07/21/18/22/b4a32dfb-1ae7-4a98-bc18-7c269de375bf/Prais
 e-Kids.png
END:VEVENT
END:VCALENDAR
