BEGIN:VCALENDAR
VERSION:2.0
PRODID:icalendar-ruby
CALSCALE:GREGORIAN
METHOD:PUBLISH
BEGIN:VEVENT
DTSTAMP:20260424T113741Z
UID:124-2677555@praisechurchoflouisiana.com
DTSTART:20261101T170000Z
DTEND:20261101T180000Z
CLASS:PUBLIC
CREATED:20260424T054517
DESCRIPTION:Sunday Worship Experience PCNOLA
LAST-MODIFIED:20260424T054517
LOCATION:Praise Church of New Orleans 4433 Chastant St.\; Metairie\, LA 700
 06
SUMMARY:Sunday Worship Experience PCNOLA
URL;VALUE=URI:https://praisechurchoflouisiana.com/events/sunday-worship-exp
 erience-pcnola/2026-11-01
ATTACH;FILENAME=DSC_0001.JPG;FMTTYPE=image/jpeg:https://dq5pwpg1q8ru0.cloud
 front.net/2023/02/07/06/57/42/e0fff1b5-6e67-449a-9bc8-9f339fde2575/DSC_000
 1.JPG
END:VEVENT
END:VCALENDAR
